BEGIN:VCALENDAR
VERSION:2.0
PRODID:-//The Queens Hotel Bed &amp; Breakfast - ECPv6.8.1//NONSGML v1.0//EN
CALSCALE:GREGORIAN
METHOD:PUBLISH
X-ORIGINAL-URL:https://bedandbreakfast-silloth.co.uk
X-WR-CALDESC:Events for The Queens Hotel Bed &amp; Breakfast
REFRESH-INTERVAL;VALUE=DURATION:PT1H
X-Robots-Tag:noindex
X-PUBLISHED-TTL:PT1H
BEGIN:VTIMEZONE
TZID:Europe/London
BEGIN:DAYLIGHT
TZOFFSETFROM:+0000
TZOFFSETTO:+0100
TZNAME:BST
DTSTART:20250330T010000
END:DAYLIGHT
BEGIN:STANDARD
TZOFFSETFROM:+0100
TZOFFSETTO:+0000
TZNAME:GMT
DTSTART:20251026T010000
END:STANDARD
END:VTIMEZONE
BEGIN:VEVENT
DTSTART;VALUE=DATE:20250511
DTEND;VALUE=DATE:20250512
DTSTAMP:20260425T170118
CREATED:20250124T133451Z
LAST-MODIFIED:20250124T133451Z
UID:537-1746921600-1747007999@bedandbreakfast-silloth.co.uk
SUMMARY:Silloth on Solway Golf Club- Captain's Charity Open (Any Combination of pairs\, Men and Ladies) £110 per pair
DESCRIPTION:Arrange your accommodation directly with us on 016973 31373 \nPlease contact Silloth on Solway Golf club for further details of this event. \nPhone: 016973 31304 Email: \noffice@sillothgolfclub.co.uk \n 
URL:https://bedandbreakfast-silloth.co.uk/event/silloth-on-solway-golf-club-captains-charity-open-any-combination-of-pairs-men-and-ladies-110-per-pair/
LOCATION:Silloth on Solway Golf Club\, Silloth\, CA7 4BL\, United Kingdom
END:VEVENT
BEGIN:VEVENT
DTSTART;VALUE=DATE:20250602
DTEND;VALUE=DATE:20250603
DTSTAMP:20260425T170118
CREATED:20250124T134658Z
LAST-MODIFIED:20250124T135336Z
UID:539-1748822400-1748908799@bedandbreakfast-silloth.co.uk
SUMMARY:Silloth on Solway Golf Club Competition - Ladies 4BBB Open ~ £50.00 per pair
DESCRIPTION:Arrange your accommodation directly with us on 016973 31373. \nPlease contact Silloth on Solway Golf club for further details of this event. \nPhone: 016973 31304 Email: office@sillothgolfclub.co.uk
URL:https://bedandbreakfast-silloth.co.uk/event/silloth-on-solway-golf-club-competition-ladies-4bbb-open-50-00-per-pair/
LOCATION:Silloth on Solway Golf Club\, Silloth\, CA7 4BL\, United Kingdom
END:VEVENT
BEGIN:VEVENT
DTSTART;VALUE=DATE:20250627
DTEND;VALUE=DATE:20250630
DTSTAMP:20260425T170118
CREATED:20250123T152154Z
LAST-MODIFIED:20250123T152203Z
UID:523-1750982400-1751241599@bedandbreakfast-silloth.co.uk
SUMMARY:RAGNAROCK X
DESCRIPTION:Tenth annual Biker Rally hoarted by the Devil’s Disciple’s\, held at Silloth Rugby Club.  Live rock music Friday and Saturday.  Axe throwing\, Archery\, Full contact medieval combat display\, Motorbikes and beer.  Please search Ragnarock / fimbulvetr  Rally page on Facebook for more details. £25 to pre book or £35 on the gate
URL:https://bedandbreakfast-silloth.co.uk/event/ragnarock-x/
END:VEVENT
BEGIN:VEVENT
DTSTART;VALUE=DATE:20250705
DTEND;VALUE=DATE:20250707
DTSTAMP:20260425T170118
CREATED:20250124T140035Z
LAST-MODIFIED:20250124T140035Z
UID:541-1751673600-1751846399@bedandbreakfast-silloth.co.uk
SUMMARY:Firebird Festival II - Free music festival on Silloth Green
DESCRIPTION:Second Firebird music festival located on Silloth Green. \nMusic on the green all day and then love acts across venues over town. \nMore data on lineup and times will follow.
URL:https://bedandbreakfast-silloth.co.uk/event/firebird-festival-ii-free-music-festival-on-silloth-green/
LOCATION:SILLOTH
END:VEVENT
BEGIN:VEVENT
DTSTART;TZID=Europe/London:20250725T190000
DTEND;TZID=Europe/London:20250725T190000
DTSTAMP:20260425T170118
CREATED:20250124T113136Z
LAST-MODIFIED:20250124T113217Z
UID:529-1753470000-1753470000@bedandbreakfast-silloth.co.uk
SUMMARY:Soul on the Green.  Friday night warmup
DESCRIPTION:Friday Northern Soul\, Motown\, night in the Rugby club.  7pm till late. £5 On the door.
URL:https://bedandbreakfast-silloth.co.uk/event/soul-on-the-green-friday-night-warmup/
LOCATION:Silloth Rugby club\, Silloth\, United Kingdom
END:VEVENT
BEGIN:VEVENT
DTSTART;TZID=Europe/London:20250726T110000
DTEND;TZID=Europe/London:20250726T200000
DTSTAMP:20260425T170118
CREATED:20250124T140725Z
LAST-MODIFIED:20250124T140725Z
UID:543-1753527600-1753560000@bedandbreakfast-silloth.co.uk
SUMMARY:SOUL ON THE GREEN VII- THE MAIN EVENT!
DESCRIPTION:All your favourite Soul\, Motown and ska sounds brought to you by the Soul Collective and friends. \nThis is a charity events and the proceeds are used to fund activities for the youth of Silloth so please donate to the fundraisers.
URL:https://bedandbreakfast-silloth.co.uk/event/soul-on-the-green-vii-the-main-event/
LOCATION:Silloth Green
END:VEVENT
BEGIN:VEVENT
DTSTART;VALUE=DATE:20250727
DTEND;VALUE=DATE:20250728
DTSTAMP:20260425T170118
CREATED:20250124T154424Z
LAST-MODIFIED:20250124T154919Z
UID:546-1753574400-1753660799@bedandbreakfast-silloth.co.uk
SUMMARY:Silloth on Solway Golf Club - 4 Man Team Open ~ Men's best 3 Scores out of 4 £220.00 per team
DESCRIPTION:Popular golf competition at Silloth on Solway Golf Club. \nPlease contact Silloth on Solway Golf club for further details of this event. \nPhone: 016973 31304 Email: \noffice@sillothgolfclub.co.uk
URL:https://bedandbreakfast-silloth.co.uk/event/silloth-on-solway-golf-club-4-man-team-open-mens-best-3-scores-out-of-4-220-00-per-team/
LOCATION:Silloth on Solway Golf Club\, Silloth\, CA7 4BL\, United Kingdom
END:VEVENT
BEGIN:VEVENT
DTSTART;VALUE=DATE:20250814
DTEND;VALUE=DATE:20250815
DTSTAMP:20260425T170118
CREATED:20250124T161917Z
LAST-MODIFIED:20250124T161917Z
UID:551-1755129600-1755215999@bedandbreakfast-silloth.co.uk
SUMMARY:Silloth on Solway Golf Club - Seniors Open ~ Mens singles £45.00
DESCRIPTION:Arrange your accommodation directly with us on 016973 31373. \nPlease contact Silloth on Solway Golf club for further details of this event. Or use the club website to book yourself a tee time. \nPhone: 016973 31304 \nEmail: office@sillothgolfclub.co.uk
URL:https://bedandbreakfast-silloth.co.uk/event/silloth-on-solway-golf-club-seniors-open-mens-singles-45-00/
END:VEVENT
BEGIN:VEVENT
DTSTART;TZID=Europe/London:20250821T080000
DTEND;TZID=Europe/London:20250824T170000
DTSTAMP:20260425T170118
CREATED:20250127T132802Z
LAST-MODIFIED:20250127T132802Z
UID:555-1755763200-1756054800@bedandbreakfast-silloth.co.uk
SUMMARY:SOL FEST 2025 -Music festival
DESCRIPTION:Music Festival held at the tarns 5 miles away on Thursday until the early hours of Sunday morning. \nPrices for this event vary.  Please look at the event website for up to date prices.
URL:https://bedandbreakfast-silloth.co.uk/event/sol-fest-2025-music-festival/
END:VEVENT
BEGIN:VEVENT
DTSTART;VALUE=DATE:20250901
DTEND;VALUE=DATE:20250902
DTSTAMP:20260425T170118
CREATED:20250124T162316Z
LAST-MODIFIED:20250124T162316Z
UID:553-1756684800-1756771199@bedandbreakfast-silloth.co.uk
SUMMARY:Silloth on Solway Golf Club - Pendle Trophy - Ladies Team Open ~ £100.00 per team of 4
DESCRIPTION:Arrange your accommodation directly with us on 016973 31373. \nPlease contact Silloth on Solway Golf club for further details of this event. Or use the club website to book yourself a tee time. \nPhone: 016973 31304 \nEmail: office@sillothgolfclub.co.uk
URL:https://bedandbreakfast-silloth.co.uk/event/silloth-on-solway-golf-club-pendle-trophy-ladies-team-open-100-00-per-team-of-4/
LOCATION:Silloth on Solway Golf Club\, Silloth\, CA7 4BL\, United Kingdom
END:VEVENT
END:VCALENDAR